BEGIN:VCALENDAR
VERSION:2.0
PRODID:-//wp-events-plugin.com//7.2.3.1//EN
TZID:America/Campo_Grande
X-WR-TIMEZONE:America/Campo_Grande
BEGIN:VEVENT
UID:31@sucurihc.org
DTSTART;TZID=America/Campo_Grande:20250605T190000
DTEND;TZID=America/Campo_Grande:20250605T213000
DTSTAMP:20250605T131304Z
URL:https://sucurihc.org/reunioes/phishing-desvendando-o-ataque-multiplata
 forma-2/
SUMMARY:PHISHING - Desvendando o ataque multiplataforma
DESCRIPTION:Convite Aberto à Comunidade de TI e Cibersegurança\nVocê já
  recebeu aquele e-mail "urgente" do seu banco pedindo para atualizar seus 
 dados? Ou uma mensagem no WhatsApp com uma promoção tentadora? Então vo
 cê já esteve na mira de um ataque de phishing – uma das armas mais e
 ficazes e subestimadas do cibercrime.\nAgora imagine poder entender\, na p
 rática\, como esses ataques são orquestrados em múltiplas plataformas
 \, das redes sociais ao e-mail corporativo – e\, mais importante\, como
  identificá-los e se proteger.\nVenha participar de um talk imperdível 
 com Rogério PX\, especialista em segurança digital\, que vai abrir a cai
 xa preta dos métodos usados por fraudadores e mostrar como o phishing evo
 luiu\, se infiltrando em diversos canais ao mesmo tempo.\nEste evento é 
 aberto a todos os níveis de conhecimento\, desde curiosos até veteranos 
 da área. A proposta é simples: aprender juntos\, defender melhor.\nSe v
 ocê é apaixonado por tecnologia e quer fortalecer sua postura defensiva\
 , esse é o seu lugar.\nNão caia na próxima armadilha. Aprenda a reconh
 ecê-la antes que ela aconteça.\nJunte-se a nós nessa construção colet
 iva de segurança. Sua voz\, sua experiência — ou sua curiosidade — t
 êm um lugar aqui.\nVamos provar que segurança se constrói em rede.\n\n
 \nInscrição gratuita! Garanta sua vaga e faça parte desse grande encont
 ro.\n\n\nhttps://www.sympla.com.br/evento/phishing-desvendando-o-ataque-mu
 ltiplataforma/2986340
ATTACH;FMTTYPE=image/jpeg:https://sucurihc.org/wp-content/uploads/2025/06/
 20250605-SYMPLA-PHISHING-1-scaled.png
END:VEVENT
BEGIN:VTIMEZONE
TZID:America/Campo_Grande
X-LIC-LOCATION:America/Campo_Grande
BEGIN:STANDARD
DTSTART:20240605T190000
TZOFFSETFROM:-0400
TZOFFSETTO:-0400
TZNAME:-04
END:STANDARD
END:VTIMEZONE
END:VCALENDAR